BEGIN:VCALENDAR
PRODID:-//Microsoft Corporation//Outlook 12.0 MIMEDIR//EN
VERSION:2.0
CALSCALE:GREGORIAN
BEGIN:VEVENT
UID: 09a1e885-ad28-4891-9926-40aa30216bd8
SUMMARY:Jõulukontsert Härmalõnga Kastre ja Võnnu kodus
DTSTAMP:20181219
DTSTART:20181219
DTEND:20181220
DURATION:P1D
LOCATION:
DESCRIPTION: <p><strong>Link: </strong>https://vonnu.edu.ee/et/sundmuste-kalender/joulukontsert-harmalonga-kastre-ja-vonnu-kodus</p><p><strong>Hind: </strong></p>
STATUS:CONFIRMED
SEQUENCE:3
X-ALT-DESC;FMTTYPE=text/html:<p><strong>Link: </strong>https://vonnu.edu.ee/et/sundmuste-kalender/joulukontsert-harmalonga-kastre-ja-vonnu-kodus</p><p><strong>Hind: </strong></p>
X-MICROSOFT-CDO-BUSYSTATUS:OOF
X-MICROSOFT-CDO-IMPORTANCE:1
X-MICROSOFT-DISALLOW-COUNTER:FALSE
X-MS-OLK-ALLOWEXTERNCHECK:TRUE
X-MS-OLK-CONFTYPE:0
X-MICROSOFT-CDO-ALLDAYEVENT:1
X-MICROSOFT-MSNCALENDAR-ALLDAYEVENT:1
END:VEVENT
END:VCALENDAR