BEGIN:VCALENDAR
PRODID:-//Microsoft Corporation//Outlook 12.0 MIMEDIR//EN
VERSION:2.0
CALSCALE:GREGORIAN
BEGIN:VEVENT
UID: dd8268ab-51cf-4e29-8b78-bcf77ee6b251
SUMMARY:G10 ja G11 Riigikaitselaager
DTSTAMP:20250527
DTSTART:20250527
DTEND:20250530
DURATION:P3D
LOCATION:Võru (Nursipalu)
DESCRIPTION: <p><strong>Link: </strong>https://vonnu.edu.ee/et/koolituste-kalender/g10-ja-g11-riigikaitselaager</p><p><strong>Hind: </strong></p>
STATUS:CONFIRMED
SEQUENCE:3
X-ALT-DESC;FMTTYPE=text/html:<p><strong>Link: </strong>https://vonnu.edu.ee/et/koolituste-kalender/g10-ja-g11-riigikaitselaager</p><p><strong>Hind: </strong></p>
X-MICROSOFT-CDO-BUSYSTATUS:OOF
X-MICROSOFT-CDO-IMPORTANCE:1
X-MICROSOFT-DISALLOW-COUNTER:FALSE
X-MS-OLK-ALLOWEXTERNCHECK:TRUE
X-MS-OLK-CONFTYPE:0
X-MICROSOFT-CDO-ALLDAYEVENT:1
X-MICROSOFT-MSNCALENDAR-ALLDAYEVENT:1
END:VEVENT
END:VCALENDAR